* Generated by CDO operator gradsdes
*
DSET  ^mdt_hybrid_cnes_cls22_cmems2020_0.25x0.25.nc
DTYPE  NetCDF
XDEF 1440 LINEAR -179.875000 0.250000
YDEF 720 LINEAR -89.875000 0.250000
ZDEF 1 LEVELS 0 
TDEF 1 LINEAR 00:00Z01jan2003 1mn
TITLE  mdt_hybrid_cnes_cls22_cmems2020_0.25x0.25.nc  1440x720 grid
UNDEF  -2.14748e+09
VARS  6
mdt                0  t,y,x  Mean dynamic topography  [m]
u                  0  t,y,x  Mean eastward geostrophic velocity  [m/s]
v                  0  t,y,x  Mean northward geostrophic velocity  [m/s]
err_mdt            0  t,y,x  mean dynamic topography error  [m]
err_u              0  t,y,x  mean eastward geostrophic velocity error  [m]
err_v              0  t,y,x  mean northward geostrophic velocity error  [m]
ENDVARS
