DSET /aosc/greenland2/soda4.15.2_%ch/SODA/soda4.15.2_mn_incr_1x1_%y4.nc
CHSUB 1 155 s1
CHSUB 156 275 s2
CHSUB 276 431 s3
CHSUB 432 533 s4
DTYPE netcdf
OPTIONS TEMPLATE
UNDEF 0.0
TITLE This is temperatire and salinity correctors (Obs. minus first guess OI)
* on regular 1.0x1.0 grid from 1980-2024 MOM5 and SODA temperature and
* salinity assimulation forced by corrected ERA5 fileds:
* lwga - was corrected based on the mixed layer heat flux deficit
* observation minus first guess temperature differences in soda3.15.2a
*
XDEF 360 linear 0.5 1.0
YDEF 180 linear -89.5 1.0
ZDEF 75 levels 0.54128076539161, 1.68073467983143, 2.93995264891447, 4.33152148514951, 5.86935042405403, 7.56880992005022, 9.44688495964871, 11.5223443928033, 13.8159279323332, 16.3505526329353, 19.151540835806, 22.2468717521887, 25.66745905867, 29.4474570874552, 33.6245984138505, 38.2405658667745, 43.3414022110416, 48.9779609631741, 55.2064019936584, 62.0887357201759, 69.6934197853445, 78.0960121026315, 87.379884002135, 97.6369968516802, 108.968744882098, 121.48686590184, 135.314419992604, 150.586833952313, 167.453005943493, 186.076460191499, 206.636535284236, 229.329581189748, 254.370128943059, 281.991982454696, 312.449163513683, 346.01661821764, 382.990565399297, 423.688335745048, 468.447515403956, 517.624172536375, 571.589915322663, 630.727513161329, 695.424821496212, 766.066799209776, 843.025512765185, 926.648198508397, 1017.24370768399, 1115.06797498371, 1220.30949515272, 1333.07609257785, 1453.38443981473, 1581.15373742821, 1716.2046509593, 1858.26402924282, 2006.97519804695, 2161.9128824586, 2322.60123413657, 2488.5331512273, 2659.18911348314, 2834.05406813066, 3012.6313812063, 3194.4533865926, 3379.08852049285, 3566.14536241277, 3755.27409765924, 3946.16599026663, 4138.55143999841, 4332.19712659193, 4526.90264998742, 4722.49697666354, 4918.83491240816, 5115.7937470637, 5313.27015821824, 5511.17741767395, 5709.44291422576
TDEF 533 linear 15Feb1980 1mo
VARS 2
tcor=>tcor 75 t,z,y,x temperature correction (degree C)
scor=>scor 75 t,z,y,x salinity correction (PSU)
ENDVARS
