DSET /aosc/greenland/soda3.15.2/SODA/soda3.15.2_10dy_incr_1x1_%y4_%m2_%d2.nc
DTYPE netcdf
OPTIONS TEMPLATE
UNDEF 0.0
TITLE This is temperatire and salinity correctors (Obs. minus first guess OI)
* on regular 1.0x1.0 grid from 1980-2019 MOM5 and SODA temperature and
* salinity assimulation forced by corrected ERA5 fileds:
* lwga - was corrected based on the mixed layer heat flux deficit
* observation minus first guess temperature differences in soda3.15.2a
*
XDEF 360 linear 0.5 1.0
YDEF 180 linear -89.5 1.0
ZDEF 50 levels 5.03355, 15.10065, 25.21935, 35.35845, 45.57635, 55.86325, 66.26175, 76.80285, 87.57695, 98.62325, 110.0962, 122.1067, 134.9086, 148.7466, 164.0538, 181.3125, 201.2630, 224.7773, 253.0681, 287.5508, 330.0078, 382.3651, 446.7263, 524.9824, 618.7031, 728.6921, 854.9935, 996.7153, 1152.376, 1319.997, 1497.562, 1683.057, 1874.788, 2071.252, 2271.323, 2474.043, 2678.757, 2884.898, 3092.117, 3300.086, 3508.633, 3717.567, 3926.813, 4136.251, 4345.864, 4555.566, 4765.369, 4975.209, 5185.111, 5395.023
TDEF 1568 linear 6Jan1980 10dy
VARS 2
tcor=>tcor 50 t,z,y,x temperature correction (degree C)
scor=>scor 50 t,z,y,x salinity correction (PSU)
ENDVARS
