DSET ^soda3.3.2_5dy_sst_reg.dat
UNDEF -9.99e+08
TITLE soda3.3.2 temp(z=5m) 1980-2016 at 5dy intervals on the regular 0.5x0.5deg grid
XDEF 720 linear 0.25 0.5
YDEF 330 linear -74.75 0.5
ZDEF 1 levels 5.03355
TDEF 2703 linear 03Jan1980 5dy
VARS 1
sst 0 99 temp(z=5.03355m) [C]
ENDVARS
